BEGIN:VCALENDAR
VERSION:2.0
PRODID:-//ETNH Events//WordPress Plugin//PL
CALSCALE:GREGORIAN
METHOD:PUBLISH
BEGIN:VEVENT
UID:00c24d8813e30f94bc3efc787484d640
DTSTAMP:20260419T231506Z
DTSTART;VALUE=DATE:20260822
DTEND;VALUE=DATE:20260823
SUMMARY:Warta Gravel
DESCRIPTION:
LOCATION:Poznań
URL:https://wartagravel.com
STATUS:CONFIRMED
SEQUENCE:0
END:VEVENT
END:VCALENDAR
