BEGIN:VCALENDAR
VERSION:2.0
PRODID:-//ETNH Events//WordPress Plugin//PL
CALSCALE:GREGORIAN
METHOD:PUBLISH
BEGIN:VEVENT
UID:a76895d72f716eb671ea842ee64ec439
DTSTAMP:20260419T224914Z
DTSTART;VALUE=DATE:20260508
DTEND;VALUE=DATE:20260509
SUMMARY:Ułan 600
DESCRIPTION:
LOCATION:Grudziądz
URL:https://ulan600.pl
STATUS:CONFIRMED
SEQUENCE:0
END:VEVENT
END:VCALENDAR
