BEGIN:VCALENDAR
VERSION:2.0
PRODID:-//ETNH Events//WordPress Plugin//PL
CALSCALE:GREGORIAN
METHOD:PUBLISH
BEGIN:VEVENT
UID:9a559199593ee3b50ede01f36a4ddac8
DTSTAMP:20260419T231756Z
DTSTART;VALUE=DATE:20260606
DTEND;VALUE=DATE:20260607
SUMMARY:PBT: Wschód 1000
DESCRIPTION:
LOCATION:Gdańsk
URL:http://polishbiketour.pl
STATUS:CONFIRMED
SEQUENCE:0
END:VEVENT
END:VCALENDAR
