BEGIN:VCALENDAR
VERSION:2.0
PRODID:-//ETNH Events//WordPress Plugin//PL
CALSCALE:GREGORIAN
METHOD:PUBLISH
BEGIN:VEVENT
UID:09ddb527971dc63cc5799ce4337aa4e8
DTSTAMP:20260419T231652Z
DTSTART;VALUE=DATE:20260801
DTEND;VALUE=DATE:20260802
SUMMARY:PBT: Zachód 800
DESCRIPTION:
LOCATION:Żywiec
URL:http://polishbiketour.pl
STATUS:CONFIRMED
SEQUENCE:0
END:VEVENT
END:VCALENDAR
