BEGIN:VCALENDAR
VERSION:2.0
PRODID:-//ETNH Events//WordPress Plugin//PL
CALSCALE:GREGORIAN
METHOD:PUBLISH
BEGIN:VEVENT
UID:20ef9b6f3334ad2a89b252e9c0ae5039
DTSTAMP:20260419T225114Z
DTSTART;VALUE=DATE:20260502
DTEND;VALUE=DATE:20260503
SUMMARY:PBT: Bałtyk 600
DESCRIPTION:
LOCATION:Szczecin
URL:http://polishbiketour.pl
STATUS:CONFIRMED
SEQUENCE:0
END:VEVENT
END:VCALENDAR
