BEGIN:VCALENDAR
VERSION:2.0
PRODID:-//ETNH Events//WordPress Plugin//PL
CALSCALE:GREGORIAN
METHOD:PUBLISH
BEGIN:VEVENT
UID:13d95659d6013ba78d768ed1ed636c10
DTSTAMP:20260419T225129Z
DTSTART;VALUE=DATE:20260704
DTEND;VALUE=DATE:20260705
SUMMARY:Wisła 1200
DESCRIPTION:
LOCATION:Wisła
URL:https://wisla1200.pl
STATUS:CONFIRMED
SEQUENCE:0
END:VEVENT
END:VCALENDAR
