BEGIN:VCALENDAR
VERSION:2.0
PRODID:-//ETNH Events//WordPress Plugin//PL
CALSCALE:GREGORIAN
METHOD:PUBLISH
BEGIN:VEVENT
UID:ff4d564aedcb46987994d9620352b98d
DTSTAMP:20260419T225833Z
DTSTART;VALUE=DATE:20260704
DTEND;VALUE=DATE:20260705
SUMMARY:Gravel Beskidzki
DESCRIPTION:
LOCATION:Radocyna
URL:https://gravelbeskidzki.pl
STATUS:CONFIRMED
SEQUENCE:0
END:VEVENT
END:VCALENDAR
