BEGIN:VCALENDAR
VERSION:2.0
PRODID:-//ETNH Events//WordPress Plugin//PL
CALSCALE:GREGORIAN
METHOD:PUBLISH
BEGIN:VEVENT
UID:e15ca051f1b4e4fd360b9d8b9a8bd859
DTSTAMP:20260419T230231Z
DTSTART;VALUE=DATE:20260620
DTEND;VALUE=DATE:20260621
SUMMARY:Poznańska Korba
DESCRIPTION:
LOCATION:Kórnik
URL:http://poznanskakorba.pl
STATUS:CONFIRMED
SEQUENCE:0
END:VEVENT
END:VCALENDAR
