BEGIN:VCALENDAR
VERSION:2.0
PRODID:-//ETNH Events//WordPress Plugin//PL
CALSCALE:GREGORIAN
METHOD:PUBLISH
BEGIN:VEVENT
UID:bb73ad083b59f1c48af04eaa6ae1273d
DTSTAMP:20260419T231652Z
DTSTART;VALUE=DATE:20260620
DTEND;VALUE=DATE:20260621
SUMMARY:Parlé Gravel Adventure Race
DESCRIPTION:
LOCATION:Poznań
URL:https://bikeowewyprawy.pl
STATUS:CONFIRMED
SEQUENCE:0
END:VEVENT
END:VCALENDAR
