BEGIN:VCALENDAR
VERSION:2.0
PRODID:-//ETNH Events//WordPress Plugin//PL
CALSCALE:GREGORIAN
METHOD:PUBLISH
BEGIN:VEVENT
UID:804531cf12bd22aa1e43ad6935a40bd2
DTSTAMP:20260419T231623Z
DTSTART;VALUE=DATE:20260612
DTEND;VALUE=DATE:20260613
SUMMARY:Hardy Gravel
DESCRIPTION:
LOCATION:Chotowa
URL:https://hardygravel.cc
STATUS:CONFIRMED
SEQUENCE:0
END:VEVENT
END:VCALENDAR
