BEGIN:VCALENDAR
VERSION:2.0
PRODID:-//ETNH Events//WordPress Plugin//PL
CALSCALE:GREGORIAN
METHOD:PUBLISH
BEGIN:VEVENT
UID:dd1e7f1921e8865082013bcfcc63da63
DTSTAMP:20260419T225042Z
DTSTART;VALUE=DATE:20260612
DTEND;VALUE=DATE:20260613
SUMMARY:Ultra Lajkonik
DESCRIPTION:
LOCATION:Bartkowa Posadowa
URL:http://ultralajkonik.pl
STATUS:CONFIRMED
SEQUENCE:0
END:VEVENT
END:VCALENDAR
