BEGIN:VCALENDAR
VERSION:2.0
PRODID:-//ETNH Events//WordPress Plugin//PL
CALSCALE:GREGORIAN
METHOD:PUBLISH
BEGIN:VEVENT
UID:dde1a202bb51879491d0b01aa2f0cef4
DTSTAMP:20260419T231644Z
DTSTART;VALUE=DATE:20260619
DTEND;VALUE=DATE:20260620
SUMMARY:Varmia Gravel
DESCRIPTION:
LOCATION:Stawiguda
URL:https://varmia.gravel.love/
STATUS:CONFIRMED
SEQUENCE:0
END:VEVENT
END:VCALENDAR
