BEGIN:VCALENDAR
VERSION:2.0
PRODID:-//ETNH Events//WordPress Plugin//PL
CALSCALE:GREGORIAN
METHOD:PUBLISH
BEGIN:VEVENT
UID:d45eafec15ecbd47405224c262f6dab5
DTSTAMP:20260419T231527Z
DTSTART;VALUE=DATE:20260522
DTEND;VALUE=DATE:20260523
SUMMARY:Sudovia Gravel
DESCRIPTION:
LOCATION:Szelment
URL:https://sudovia.gravel.love
STATUS:CONFIRMED
SEQUENCE:0
END:VEVENT
END:VCALENDAR
