BEGIN:VCALENDAR
VERSION:2.0
PRODID:-//ETNH Events//WordPress Plugin//PL
CALSCALE:GREGORIAN
METHOD:PUBLISH
BEGIN:VEVENT
UID:4cb3e942c7109ecff0a53604144385ff
DTSTAMP:20260419T225043Z
DTSTART;VALUE=DATE:20260511
DTEND;VALUE=DATE:20260512
SUMMARY:Przeciskacz
DESCRIPTION:
LOCATION:Nędza
URL:https://www.przeciskacz.pl
STATUS:CONFIRMED
SEQUENCE:0
END:VEVENT
END:VCALENDAR
