BEGIN:VCALENDAR
VERSION:2.0
PRODID:-//ETNH Events//WordPress Plugin//PL
CALSCALE:GREGORIAN
METHOD:PUBLISH
BEGIN:VEVENT
UID:4e074e835d799c6e55a6dbd8c56d14b1
DTSTAMP:20260419T225925Z
DTSTART;VALUE=DATE:20260611
DTEND;VALUE=DATE:20260612
SUMMARY:GravOn &#8211\; Three Countries
DESCRIPTION:
LOCATION:Szklarska Poręba - Jakuszyce
URL:https://www.gravon.pl/
STATUS:CONFIRMED
SEQUENCE:0
END:VEVENT
END:VCALENDAR
