BEGIN:VCALENDAR
VERSION:2.0
PRODID:-//ETNH Events//WordPress Plugin//PL
CALSCALE:GREGORIAN
METHOD:PUBLISH
BEGIN:VEVENT
UID:b3503fcab8a6176b6d8dfb2599c850e4
DTSTAMP:20260420T004246Z
DTSTART;VALUE=DATE:20260806
DTEND;VALUE=DATE:20260807
SUMMARY:GravOn Karkonosze &#8211\; Izery Gravel Race
DESCRIPTION:
LOCATION:Szklarska Poręba - Jakuszyce
URL:https://www.gravon.pl/
STATUS:CONFIRMED
SEQUENCE:0
END:VEVENT
END:VCALENDAR
