BEGIN:VCALENDAR
VERSION:2.0
PRODID:-//ETNH Events//WordPress Plugin//PL
CALSCALE:GREGORIAN
METHOD:PUBLISH
BEGIN:VEVENT
UID:297386ff3aa878acafc10e3868b33f8f
DTSTAMP:20260420T004422Z
DTSTART;VALUE=DATE:20260418
DTEND;VALUE=DATE:20260419
SUMMARY:Pyra Trail &#8211\; Wielkopolski Maraton Gravelowy
DESCRIPTION:
LOCATION:Sieraków
URL:https://pyra-trail.pl/
STATUS:CONFIRMED
SEQUENCE:0
END:VEVENT
END:VCALENDAR
