BEGIN:VCALENDAR
VERSION:2.0
PRODID:-//ETNH Events//WordPress Plugin//PL
CALSCALE:GREGORIAN
METHOD:PUBLISH
BEGIN:VEVENT
UID:76ad5cbc461f98bb8280bb70a6c81ab7
DTSTAMP:20260420T005235Z
DTSTART;VALUE=DATE:20260828
DTEND;VALUE=DATE:20260829
SUMMARY:Trojak Kowala: Wszyscy jesteśmy kowalami
DESCRIPTION:
LOCATION:Koszęcin
URL:https://kowalnakole.pl/
STATUS:CONFIRMED
SEQUENCE:0
END:VEVENT
END:VCALENDAR
