BEGIN:VCALENDAR
VERSION:2.0
PRODID:-//ETNH Events//WordPress Plugin//PL
CALSCALE:GREGORIAN
METHOD:PUBLISH
BEGIN:VEVENT
UID:a399e5188ea2d27ae72c6271deedef19
DTSTAMP:20260419T231526Z
DTSTART;VALUE=DATE:20260620
DTEND;VALUE=DATE:20260621
SUMMARY:Trojak Kowala: Żar paleniska
DESCRIPTION:
LOCATION:Koszęcin
URL:https://www.facebook.com/kowalnakole/
STATUS:CONFIRMED
SEQUENCE:0
END:VEVENT
END:VCALENDAR
