BEGIN:VCALENDAR
VERSION:2.0
PRODID:-//ETNH Events//WordPress Plugin//PL
CALSCALE:GREGORIAN
METHOD:PUBLISH
BEGIN:VEVENT
UID:1d91e701c604ef8656cf99840235e582
DTSTAMP:20260420T004118Z
DTSTART;VALUE=DATE:20260411
DTEND;VALUE=DATE:20260412
SUMMARY:Trojak Kowala: Pierwsza iskra
DESCRIPTION:
LOCATION:Koszęcin
URL:https://kowalnakole.pl/
STATUS:CONFIRMED
SEQUENCE:0
END:VEVENT
END:VCALENDAR
