BEGIN:VCALENDAR
VERSION:2.0
PRODID:-//ETNH Events//WordPress Plugin//PL
CALSCALE:GREGORIAN
METHOD:PUBLISH
BEGIN:VEVENT
UID:8387cd1e37bc2f13a2257329f0fce17e
DTSTAMP:20260420T005555Z
DTSTART;VALUE=DATE:20260710
DTEND;VALUE=DATE:20260711
SUMMARY:Brejdak Gravel
DESCRIPTION:
LOCATION:Janów Lubelski
URL:http://brejdakgravel.pl
STATUS:CONFIRMED
SEQUENCE:0
END:VEVENT
END:VCALENDAR
