BEGIN:VCALENDAR
VERSION:2.0
PRODID:-//ETNH Events//WordPress Plugin//PL
CALSCALE:GREGORIAN
METHOD:PUBLISH
BEGIN:VEVENT
UID:df6471b12b00bcf4b815f8746ba142d7
DTSTAMP:20260419T231613Z
DTSTART;VALUE=DATE:20260911
DTEND;VALUE=DATE:20260912
SUMMARY:Reza Gravel
DESCRIPTION:
LOCATION:Funka k. Charzyków
URL:https://rezagravel.cc/
STATUS:CONFIRMED
SEQUENCE:0
END:VEVENT
END:VCALENDAR
