BEGIN:VCALENDAR
VERSION:2.0
PRODID:-//ETNH Events//WordPress Plugin//PL
CALSCALE:GREGORIAN
METHOD:PUBLISH
BEGIN:VEVENT
UID:1e6839e341538b666a860c8621dc6d39
DTSTAMP:20260420T004441Z
DTSTART;VALUE=DATE:20260927
DTEND;VALUE=DATE:20260928
SUMMARY:Hardy Gravel: Dzikie Gęsi
DESCRIPTION:
LOCATION:Niwiska
URL:https://hardygravel.cc
STATUS:CONFIRMED
SEQUENCE:0
END:VEVENT
END:VCALENDAR
