BEGIN:VCALENDAR
VERSION:2.0
PRODID:-//ETNH Events//WordPress Plugin//PL
CALSCALE:GREGORIAN
METHOD:PUBLISH
BEGIN:VEVENT
UID:d23d7e15a08434927c179c3b278761de
DTSTAMP:20260419T231358Z
DTSTART;VALUE=DATE:20260613
DTEND;VALUE=DATE:20260614
SUMMARY:Szuter Master &#8211\; Dolny Śląsk
DESCRIPTION:
LOCATION:Polanica-Zdrój
URL:https://szutermaster.pl/
STATUS:CONFIRMED
SEQUENCE:0
END:VEVENT
END:VCALENDAR
