BEGIN:VCALENDAR
VERSION:2.0
PRODID:-//ETNH Events//WordPress Plugin//PL
CALSCALE:GREGORIAN
METHOD:PUBLISH
BEGIN:VEVENT
UID:8ebeb65374a2f931fc6594005e076980
DTSTAMP:20260419T224840Z
DTSTART;VALUE=DATE:20260516
DTEND;VALUE=DATE:20260517
SUMMARY:Szuter Master &#8211\; Mazowsze
DESCRIPTION:
LOCATION:Franciszków
URL:https://szutermaster.pl/
STATUS:CONFIRMED
SEQUENCE:0
END:VEVENT
END:VCALENDAR
