BEGIN:VCALENDAR
VERSION:2.0
PRODID:-//ETNH Events//WordPress Plugin//PL
CALSCALE:GREGORIAN
METHOD:PUBLISH
BEGIN:VEVENT
UID:7bbb9ad524eb69884243567b572fbf74
DTSTAMP:20260419T224838Z
DTSTART;VALUE=DATE:20260418
DTEND;VALUE=DATE:20260419
SUMMARY:Szutry Premium &#8211\; Edycja Wiosenna
DESCRIPTION:
LOCATION:Wrocław
URL:https://szutrypremium.pl/
STATUS:CONFIRMED
SEQUENCE:0
END:VEVENT
END:VCALENDAR
