BEGIN:VCALENDAR
VERSION:2.0
PRODID:-//ETNH Events//WordPress Plugin//PL
CALSCALE:GREGORIAN
METHOD:PUBLISH
BEGIN:VEVENT
UID:199399393688ae4bfb695d1534083240
DTSTAMP:20260419T224838Z
DTSTART;VALUE=DATE:20260425
DTEND;VALUE=DATE:20260426
SUMMARY:Po Grudzie Bike Race
DESCRIPTION:
LOCATION:Bogusławice
URL:https://www.pogrudziebikerace.com
STATUS:CONFIRMED
SEQUENCE:0
END:VEVENT
END:VCALENDAR
