BEGIN:VCALENDAR
VERSION:2.0
PRODID:-//ETNH Events//WordPress Plugin//PL
CALSCALE:GREGORIAN
METHOD:PUBLISH
BEGIN:VEVENT
UID:51947bffe9089e11cf33e29b9a3fb0e2
DTSTAMP:20260419T224920Z
DTSTART;VALUE=DATE:20260910
DTEND;VALUE=DATE:20260911
SUMMARY:Ultra Race Dolina Bugu
DESCRIPTION:
LOCATION:Mielnik
URL:https://ultraracedolinabugu.pl/
STATUS:CONFIRMED
SEQUENCE:0
END:VEVENT
END:VCALENDAR
