BEGIN:VCALENDAR
VERSION:2.0
PRODID:-//ETNH Events//WordPress Plugin//PL
CALSCALE:GREGORIAN
METHOD:PUBLISH
BEGIN:VEVENT
UID:f2a9f83c61b688b93dae7d2ac99d6f90
DTSTAMP:20260419T231310Z
DTSTART;VALUE=DATE:20260627
DTEND;VALUE=DATE:20260628
SUMMARY:Kotlina 400
DESCRIPTION:
LOCATION:Bystrzyca Kłodzka
URL:https://kotlina400.pl
STATUS:CONFIRMED
SEQUENCE:0
END:VEVENT
END:VCALENDAR
