BEGIN:VCALENDAR
VERSION:2.0
PRODID:-//ETNH Events//WordPress Plugin//PL
CALSCALE:GREGORIAN
METHOD:PUBLISH
BEGIN:VEVENT
UID:92bd8cc04e6ac985458fd4f2b0acbbac
DTSTAMP:20260420T004122Z
DTSTART;VALUE=DATE:20260918
DTEND;VALUE=DATE:20260919
SUMMARY:Great Lakes Gravel
DESCRIPTION:
LOCATION:Mikołajki
URL:https://greatlakes.gravel.love
STATUS:CONFIRMED
SEQUENCE:0
END:VEVENT
END:VCALENDAR
