BEGIN:VCALENDAR
VERSION:2.0
PRODID:-//ETNH Events//WordPress Plugin//PL
CALSCALE:GREGORIAN
METHOD:PUBLISH
BEGIN:VEVENT
UID:df59f595cd734342487201e00028c4a1
DTSTAMP:20260420T004118Z
DTSTART;VALUE=DATE:20260808
DTEND;VALUE=DATE:20260809
SUMMARY:PGR &#8211\; Poland Gravel Race
DESCRIPTION:
LOCATION:Przemyśl
URL:https://pgr.kolo-ultra.pl
STATUS:CONFIRMED
SEQUENCE:0
END:VEVENT
END:VCALENDAR
