BEGIN:VCALENDAR
VERSION:2.0
PRODID:-//ETNH Events//WordPress Plugin//PL
CALSCALE:GREGORIAN
METHOD:PUBLISH
BEGIN:VEVENT
UID:dcb4f1d314d6a6fc12a89979f6fcb867
DTSTAMP:20260419T231522Z
DTSTART;VALUE=DATE:20260124
DTEND;VALUE=DATE:20260125
SUMMARY:Wataha Ultra Race &#8211\; Zima
DESCRIPTION:
LOCATION:Skarżysko-Kamienna
URL:https://watahaultrarace.pl/
STATUS:CONFIRMED
SEQUENCE:0
END:VEVENT
END:VCALENDAR
