BEGIN:VCALENDAR
VERSION:2.0
PRODID:-//ETNH Events//WordPress Plugin//PL
CALSCALE:GREGORIAN
METHOD:PUBLISH
BEGIN:VEVENT
UID:bd85ce28aa003fc6075e261f4eeb8bfb
DTSTAMP:20260419T224920Z
DTSTART;VALUE=DATE:20260425
DTEND;VALUE=DATE:20260426
SUMMARY:Ultra Duch Jabłoni
DESCRIPTION:
LOCATION:Grójec
URL:https://ultraduchjabloni.pl/
STATUS:CONFIRMED
SEQUENCE:0
END:VEVENT
END:VCALENDAR
