BEGIN:VCALENDAR
VERSION:2.0
PRODID:-//ETNH Events//WordPress Plugin//PL
CALSCALE:GREGORIAN
METHOD:PUBLISH
BEGIN:VEVENT
UID:70c899c7b5fda89777afe78fe2975fa2
DTSTAMP:20260419T224921Z
DTSTART;VALUE=DATE:20260516
DTEND;VALUE=DATE:20260517
SUMMARY:PBT: PINK Race 
DESCRIPTION:
LOCATION:Gliwice
URL:https://www.polishbiketour.pl/
STATUS:CONFIRMED
SEQUENCE:0
END:VEVENT
END:VCALENDAR
