BEGIN:VCALENDAR
VERSION:2.0
PRODID:-//ETNH Events//WordPress Plugin//PL
CALSCALE:GREGORIAN
METHOD:PUBLISH
BEGIN:VEVENT
UID:543d86efed34add5c582a61fd2876642
DTSTAMP:20260420T004123Z
DTSTART;VALUE=DATE:20260501
DTEND;VALUE=DATE:20260502
SUMMARY:Paprykarz z Gruzem
DESCRIPTION:
LOCATION:Szczecin
URL:https://www.facebook.com/paprykarzzgruzem
STATUS:CONFIRMED
SEQUENCE:0
END:VEVENT
END:VCALENDAR
