BEGIN:VCALENDAR
VERSION:2.0
PRODID:-//ETNH Events//WordPress Plugin//PL
CALSCALE:GREGORIAN
METHOD:PUBLISH
BEGIN:VEVENT
UID:204e6d3837a6630f0e1e0e6d07d749ea
DTSTAMP:20260420T001918Z
DTSTART;VALUE=DATE:20260509
DTEND;VALUE=DATE:20260510
SUMMARY:Ultra Race Roztocze
DESCRIPTION:
LOCATION:Susiec
URL:https://ultraraceroztocze.pl/
STATUS:CONFIRMED
SEQUENCE:0
END:VEVENT
END:VCALENDAR
