BEGIN:VCALENDAR
VERSION:2.0
PRODID:-//ETNH Events//WordPress Plugin//PL
CALSCALE:GREGORIAN
METHOD:PUBLISH
BEGIN:VEVENT
UID:038191b03e09458aa3cf47a7a4a610b2
DTSTAMP:20260419T224843Z
DTSTART;VALUE=DATE:20260715
DTEND;VALUE=DATE:20260716
SUMMARY:Warta 800
DESCRIPTION:
LOCATION:Zawiercie
URL:https://www.ultraprzygoda.pl
STATUS:CONFIRMED
SEQUENCE:0
END:VEVENT
END:VCALENDAR
