BEGIN:VCALENDAR
VERSION:2.0
PRODID:-//ETNH Events//WordPress Plugin//PL
CALSCALE:GREGORIAN
METHOD:PUBLISH
BEGIN:VEVENT
UID:b5fa16b75996230b4b196211f2d614ac
DTSTAMP:20260420T004201Z
DTSTART;VALUE=DATE:20260711
DTEND;VALUE=DATE:20260712
SUMMARY:Graveliada
DESCRIPTION:
LOCATION:Iława
URL:https://graveliada.pl/
STATUS:CONFIRMED
SEQUENCE:0
END:VEVENT
END:VCALENDAR
