BEGIN:VCALENDAR
VERSION:2.0
PRODID:-//ETNH Events//WordPress Plugin//PL
CALSCALE:GREGORIAN
METHOD:PUBLISH
BEGIN:VEVENT
UID:6fb471bdca98734df3e507bbe7336e7a
DTSTAMP:20260419T231342Z
DTSTART;VALUE=DATE:20260808
DTEND;VALUE=DATE:20260809
SUMMARY:Szutry Premium – Edycja Letnia
DESCRIPTION:
LOCATION:Wrocław
URL:https://szutrypremium.pl/
STATUS:CONFIRMED
SEQUENCE:0
END:VEVENT
END:VCALENDAR
