BEGIN:VCALENDAR
VERSION:2.0
PRODID:-//ETNH Events//WordPress Plugin//PL
CALSCALE:GREGORIAN
METHOD:PUBLISH
BEGIN:VEVENT
UID:5391da32e232c0b3e6e523e26597e8fb
DTSTAMP:20260420T003919Z
DTSTART;VALUE=DATE:20260425
DTEND;VALUE=DATE:20260426
SUMMARY:GLPK Gravel
DESCRIPTION:
LOCATION:Ruda\, k. Górzna
URL:https://www.glpkgravel.pl/
STATUS:CONFIRMED
SEQUENCE:0
END:VEVENT
END:VCALENDAR
