BEGIN:VCALENDAR
VERSION:2.0
PRODID:-//ETNH Events//WordPress Plugin//PL
CALSCALE:GREGORIAN
METHOD:PUBLISH
BEGIN:VEVENT
UID:02cb5c9423576eedd09e00fee8fb1df5
DTSTAMP:20260420T004129Z
DTSTART;VALUE=DATE:20260425
DTEND;VALUE=DATE:20260426
SUMMARY:Mana Lake Adventure Gravel Race
DESCRIPTION:
LOCATION:Ławica
URL:https://triathlonsierakow.pl/gravel-race/
STATUS:CONFIRMED
SEQUENCE:0
END:VEVENT
END:VCALENDAR
