BEGIN:VCALENDAR
VERSION:2.0
PRODID:-//ETNH Events//WordPress Plugin//PL
CALSCALE:GREGORIAN
METHOD:PUBLISH
BEGIN:VEVENT
UID:98ac3dc46765db270fa780dc0f203d2d
DTSTAMP:20260419T231358Z
DTSTART;VALUE=DATE:20260912
DTEND;VALUE=DATE:20260913
SUMMARY:Szuter Master – Beskid Niski
DESCRIPTION:
LOCATION:Krempna
URL:https://szutermaster.pl/
STATUS:CONFIRMED
SEQUENCE:0
END:VEVENT
END:VCALENDAR
