BEGIN:VCALENDAR
VERSION:2.0
PRODID:-//ETNH Events//WordPress Plugin//PL
CALSCALE:GREGORIAN
METHOD:PUBLISH
BEGIN:VEVENT
UID:e50dee087733d84e37d422fb5b93fc8d
DTSTAMP:20260419T225007Z
DTSTART;VALUE=DATE:20260515
DTEND;VALUE=DATE:20260516
SUMMARY:7RIVERS
DESCRIPTION:
LOCATION:Kostrzyn nad Odrą
URL:https://7rivers.pl/
STATUS:CONFIRMED
SEQUENCE:0
END:VEVENT
END:VCALENDAR
