BEGIN:VCALENDAR
VERSION:2.0
PRODID:-//ETNH Events//WordPress Plugin//PL
CALSCALE:GREGORIAN
METHOD:PUBLISH
BEGIN:VEVENT
UID:fee5754c566320c14cb8f30cc62a9bb7
DTSTAMP:20260420T003940Z
DTSTART;VALUE=DATE:20261004
DTEND;VALUE=DATE:20261005
SUMMARY:Garmin Gravel Race &#8211\; Szklarska Poręba
DESCRIPTION:
LOCATION:Szklarska Poręba
URL:https://gravelrace.pl/
STATUS:CONFIRMED
SEQUENCE:0
END:VEVENT
END:VCALENDAR
