BEGIN:VCALENDAR
VERSION:2.0
PRODID:-//ETNH Events//WordPress Plugin//PL
CALSCALE:GREGORIAN
METHOD:PUBLISH
BEGIN:VEVENT
UID:239ae0b22665e7f584d207cfef911741
DTSTAMP:20260420T005307Z
DTSTART;VALUE=DATE:20260719
DTEND;VALUE=DATE:20260720
SUMMARY:Garmin Gravel Race &#8211\; Tolkmicko
DESCRIPTION:
LOCATION:Tolkmicko
URL:https://gravelrace.pl/
STATUS:CONFIRMED
SEQUENCE:0
END:VEVENT
END:VCALENDAR
