BEGIN:VCALENDAR
VERSION:2.0
PRODID:-//ETNH Events//WordPress Plugin//PL
CALSCALE:GREGORIAN
METHOD:PUBLISH
BEGIN:VEVENT
UID:deaec7e5969b0f70555fb859ecc6c154
DTSTAMP:20260420T003830Z
DTSTART;VALUE=DATE:20260627
DTEND;VALUE=DATE:20260628
SUMMARY:Pogranicza Gravel
DESCRIPTION:
LOCATION:Radziejów
URL:https://pograniczagravel.pl/
STATUS:CONFIRMED
SEQUENCE:0
END:VEVENT
END:VCALENDAR
