BEGIN:VCALENDAR
VERSION:2.0
PRODID:-//ETNH Events//WordPress Plugin//PL
CALSCALE:GREGORIAN
METHOD:PUBLISH
BEGIN:VEVENT
UID:812caa9aef0ef1532d99c1b118e779e1
DTSTAMP:20260420T005420Z
DTSTART;VALUE=DATE:20260912
DTEND;VALUE=DATE:20260913
SUMMARY:Orient Gravel &#8211\; Augustów: &#8222\;Kanał Augustowski &amp\; Wigry&#8221\;
DESCRIPTION:
LOCATION:Augustów
URL:https://orientgravel.pl/
STATUS:CONFIRMED
SEQUENCE:0
END:VEVENT
END:VCALENDAR
