BEGIN:VCALENDAR
VERSION:2.0
PRODID:-//ETNH Events//WordPress Plugin//PL
CALSCALE:GREGORIAN
METHOD:PUBLISH
BEGIN:VEVENT
UID:2b7d02c19b3b3fae76348ccf21454ea5
DTSTAMP:20260419T231240Z
DTSTART;VALUE=DATE:20260815
DTEND;VALUE=DATE:20260816
SUMMARY:Orient Gravel &#8211\; Gołdap: &#8222\;Mazurski Zdrój&#8221\;
DESCRIPTION:
LOCATION:Gołdap
URL:https://orientgravel.pl/
STATUS:CONFIRMED
SEQUENCE:0
END:VEVENT
END:VCALENDAR
