BEGIN:VCALENDAR
VERSION:2.0
PRODID:-//ETNH Events//WordPress Plugin//PL
CALSCALE:GREGORIAN
METHOD:PUBLISH
BEGIN:VEVENT
UID:665a08c4de98e06a60669878a63143d0
DTSTAMP:20260419T231520Z
DTSTART;VALUE=DATE:20260711
DTEND;VALUE=DATE:20260712
SUMMARY:Orient Gravel &#8211\; Krynki: &#8222\;Szlak Tatarski&#8221\;
DESCRIPTION:
LOCATION:Krynki
URL:https://orientgravel.pl/
STATUS:CONFIRMED
SEQUENCE:0
END:VEVENT
END:VCALENDAR
