BEGIN:VCALENDAR
VERSION:2.0
PRODID:-//ETNH Events//WordPress Plugin//PL
CALSCALE:GREGORIAN
METHOD:PUBLISH
BEGIN:VEVENT
UID:5c51e15403eb4e6853ad892aafbdd6ee
DTSTAMP:20260420T003816Z
DTSTART;VALUE=DATE:20260613
DTEND;VALUE=DATE:20260614
SUMMARY:Orient Gravel &#8211\; Okszów: &#8222\;Malowniczy Wschód&#8221\;
DESCRIPTION:
LOCATION:Okszów
URL:https://orientgravel.pl/
STATUS:CONFIRMED
SEQUENCE:0
END:VEVENT
END:VCALENDAR
